BEGIN:VCALENDAR
VERSION:2.0
PRODID:-//hacksw/handcal//NONSGML v1.0//EN
CALSCALE:GREGORIAN
BEGIN:VEVENT
ORGANIZER;CN=MRC Global Inc.:MAILTO:no-reply@mail.gcs-web.com
DTEND:
UID:bd8df465-d06a-426e-8e4b-bddd6fbccfd8
DTSTAMP:1619003252
LOCATION:http://investor.mrcglobal.com/events/event-details/keybanc-capital-markets-industrials-basic-materials-conference
DESCRIPTION:Event Details http://investor.mrcglobal.com/events/event-details/keybanc-capital-markets-industrials-basic-materials-conference
URL;VALUE=URI:http://investor.mrcglobal.com/events/event-details/keybanc-capital-markets-industrials-basic-materials-conference
SUMMARY:MRC Global Inc. - KeyBanc Capital Markets – Industrials & Basic Materials Conference 
DTSTART:20210603T040000Z
END:VEVENT
END:VCALENDAR