BEGIN:VCALENDAR
VERSION:2.0
PRODID:-//hacksw/handcal//NONSGML v1.0//EN
CALSCALE:GREGORIAN
BEGIN:VEVENT
ORGANIZER;CN=MRC Global Inc.:MAILTO:no-reply@mail.gcs-web.com
DTEND:
UID:5c9e06bd-ca15-4b68-bdf9-67238a09808f
DTSTAMP:1619003242
LOCATION:https://computershare.lumiagm.com/g#/273109999/
DESCRIPTION:Event Details http://investor.mrcglobal.com/events/event-details/mrc-global-2021-virtual-annual-meeting-stockholders\n\nWebcast: https://computershare.lumiagm.com/g#/273109999/
URL;VALUE=URI:https://computershare.lumiagm.com/g#/273109999/
SUMMARY:MRC Global Inc. - MRC Global - 2021 Virtual Annual Meeting of Stockholders
DTSTART:20210506T150000Z
END:VEVENT
END:VCALENDAR