BEGIN:VCALENDAR
VERSION:2.0
PRODID:-//hacksw/handcal//NONSGML v1.0//EN
CALSCALE:GREGORIAN
BEGIN:VEVENT
ORGANIZER;CN=MRC Global Inc.:MAILTO:no-reply@mail.gcs-web.com
DTEND:
UID:7e8202e8-33ed-438f-bb3c-b56bdb9b2015
DTSTAMP:1619003232
LOCATION:https://edge.media-server.com/mmc/p/j5faxigj
DESCRIPTION:Event Details http://investor.mrcglobal.com/events/event-details/q1-2021-mrc-global-inc-earnings-conference-call\n\nWebcast: https://edge.media-server.com/mmc/p/j5faxigj
URL;VALUE=URI:https://edge.media-server.com/mmc/p/j5faxigj
SUMMARY:MRC Global Inc. - Q1 2021 MRC Global Inc. Earnings Conference Call
DTSTART:20210428T140000Z
END:VEVENT
END:VCALENDAR