BEGIN:VCALENDAR
VERSION:2.0
PRODID:-//hacksw/handcal//NONSGML v1.0//EN
CALSCALE:GREGORIAN
BEGIN:VEVENT
ORGANIZER;CN=MRC Global Inc.:MAILTO:no-reply@mail.gcs-web.com
DTEND:
UID:0f3a0084-9ecd-42da-9d80-7db5e20d8a00
DTSTAMP:1619003262
LOCATION:http://investor.mrcglobal.com/events/event-details/stifel-2021-virtual-cross-sector-insight-conference
DESCRIPTION:Event Details http://investor.mrcglobal.com/events/event-details/stifel-2021-virtual-cross-sector-insight-conference
URL;VALUE=URI:http://investor.mrcglobal.com/events/event-details/stifel-2021-virtual-cross-sector-insight-conference
SUMMARY:MRC Global Inc. - Stifel 2021 Virtual Cross Sector Insight Conference
DTSTART:20210609T040000Z
END:VEVENT
END:VCALENDAR