BEGIN:VCALENDAR
VERSION:2.0
PRODID:-//hacksw/handcal//NONSGML v1.0//EN
CALSCALE:GREGORIAN
BEGIN:VEVENT
ORGANIZER;CN=MRC Global Inc.:MAILTO:no-reply@mail.gcs-web.com
DTEND:
UID:a11dc5e1-e55e-4d9d-aa17-a4333dd4f4f5
DTSTAMP:1633870624
LOCATION:http://investor.mrcglobal.com/events/event-details/stephens-annual-investment-conference-0
DESCRIPTION:Event Details http://investor.mrcglobal.com/events/event-details/stephens-annual-investment-conference-0
URL;VALUE=URI:http://investor.mrcglobal.com/events/event-details/stephens-annual-investment-conference-0
SUMMARY:MRC Global Inc. - Stephens Annual Investment Conference 
DTSTART:20211201T050000Z
END:VEVENT
END:VCALENDAR